BEGIN:VCALENDAR
VERSION:2.0
METHOD:PUBLISH
PRODID:-//hacksw/handcal//NONSGML v1.0//EN
BEGIN:VEVENT
DTSTAMP:20260423T111739Z
DTSTART:20180428T140000Z
DTEND:20180428T160000Z
UID:20180428T140000Z-20180428T160000Z-409@akronago.org
SUMMARY:Christie Cremes: Tasty Organ Talk with James David Christie
DESCRIPTION:Come and enjoy breakfast with the deeply-admired and great
 ly lauded concert organist\, James David Christie. Mr. Christie’s care
 er has been marked by performances around the globe as a solo organ re
 citalist and has played concerti with the world’s greatest symphony or
 chestras and period instrument ensembles. At this very special breakfa
 st meeting\, you will be able to ask Mr. Christie questions about all 
 facets of his life as an organist. And\, following our table talk\, he
  will respond to our questions with relevant demonstrations from the o
 rgan console.
X-ALT-DESC;FMTTYPE=text/html:<div class=page-restrict-output><p>Come a
 nd enjoy breakfast with the deeply-admired and greatly lauded concert 
 organist\, James David Christie. Mr. Christie’s career has been marked
  by performances around the globe as a solo organ recitalist and has p
 layed concerti with the world’s greatest symphony orchestras and perio
 d instrument ensembles. At this very special breakfast meeting\, you w
 ill be able to ask Mr. Christie questions about all facets of his life
  as an organist. And\, following our table talk\, he will respond to o
 ur questions with relevant demonstrations from the organ console.</p>\
 n</div>
URL:https://akronago.org/events/409/christie-cremes-tasty-organ-talk-w
 ith-james-david-christie/?lang=en
ATTACH:https://akronago.org/events/409/christie-cremes-tasty-organ-tal
 k-with-james-david-christie/?lang=en
ATTACH:https://akronago.org/wp-content/uploads/ChristieJD3-150x150.jpg
LOCATION:Fairlawn Lutheran\, 3415 W Market St\, Fairlawn\, OH
END:VEVENT
END:VCALENDAR
