BEGIN:VCALENDAR
VERSION:2.0
METHOD:PUBLISH
PRODID:-//hacksw/handcal//NONSGML v1.0//EN
BEGIN:VEVENT
DTSTAMP:20260423T111738Z
DTSTART:20180506T200000Z
DTEND:20180506T213000Z
UID:20180506T200000Z-20180506T213000Z-408@akronago.org
SUMMARY:Diane Bish (Dedication Concert)
DESCRIPTION:Diane Bish will be performing a dedication concert on the 
 newly installed 80-stop Allen Q390 drawknob organ. \n\nAdmission is fr
 ee. For additional information on the concert\, please call John Pelle
 grino at 330-498-8400.
X-ALT-DESC;FMTTYPE=text/html:<div class=page-restrict-output><p>Diane 
 Bish will be performing a dedication concert on the newly installed 80
 -stop Allen Q390 drawknob organ. </p>\n<p>Admission is free. For addit
 ional information on the concert\, please call John Pellegrino at 330-
 498-8400.</p>\n</div>
URL:https://akronago.org/events/408/diane-bish-dedication-concert/?lan
 g=en
ATTACH:https://akronago.org/events/408/diane-bish-dedication-concert/?
 lang=en
ATTACH:https://akronago.org/wp-content/uploads/diane-bish-150x150.png
LOCATION:St Dominic Catholic Church (Youngstown)\, 77 E. Lucius Ave.\,
  Youngstown
END:VEVENT
END:VCALENDAR
