BEGIN:VCALENDAR
VERSION:2.0
METHOD:PUBLISH
PRODID:-//hacksw/handcal//NONSGML v1.0//EN
BEGIN:VEVENT
DTSTAMP:20260423T111737Z
DTSTART:20180513T195400Z
DTEND:20180513T195400Z
UID:20180513T195400Z-20180513T195400Z-407@akronago.org
SUMMARY:Mother's Day Opera/Broadway Gala
DESCRIPTION:
X-ALT-DESC;FMTTYPE=text/html:<div class=page-restrict-output></div>
URL:https://akronago.org/events/407/mothers-day-operabroadway-gala/?la
 ng=en
ATTACH:https://akronago.org/events/407/mothers-day-operabroadway-gala/
 ?lang=en
LOCATION:Westminster Presbyterian (Boardman)\, 119 Stadium Drive\, Boa
 rdman\, Boardman
END:VEVENT
END:VCALENDAR
