BEGIN:VCALENDAR
VERSION:2.0
METHOD:PUBLISH
PRODID:-//hacksw/handcal//NONSGML v1.0//EN
BEGIN:VEVENT
DTSTAMP:20260423T111726Z
DTSTART:20180408T210000Z
DTEND:20180408T223000Z
UID:20180408T210000Z-20180408T223000Z-406@akronago.org
SUMMARY:The Ohio State University Men's Glee Club
DESCRIPTION:
X-ALT-DESC;FMTTYPE=text/html:<div class=page-restrict-output></div>
URL:https://akronago.org/events/406/the-ohio-state-university-mens-gle
 e-club/?lang=en
ATTACH:https://akronago.org/events/406/the-ohio-state-university-mens-
 glee-club/?lang=en
LOCATION:Westminster Presbyterian (Akron)\, 1250 W Exchange St\, Akron
END:VEVENT
END:VCALENDAR
