BEGIN:VCALENDAR
VERSION:2.0
METHOD:PUBLISH
PRODID:-//hacksw/handcal//NONSGML v1.0//EN
BEGIN:VEVENT
DTSTAMP:20260423T111809Z
DTSTART:20180415T200000Z
DTEND:20180415T213000Z
UID:20180415T200000Z-20180415T213000Z-405@akronago.org
SUMMARY:Chamber Music with Mary Ragna Yetter and Elena LaVictoire
DESCRIPTION:Mary Ragna Yetter\, harpsichord\nElena LaVictoire\, flute\
 n\nAn afternoon of eclectic repertoire of pieces by J.S. Bach\, Jean-P
 hillipe Rameau\, John Rutter\, and others. Yetter brings her own harps
 ichord (built in the Flemish tradition after Johannes Couchet\, c. 165
 0).
X-ALT-DESC;FMTTYPE=text/html:<div class=page-restrict-output><p>Mary R
 agna Yetter\, harpsichord<br>\nElena LaVictoire\, flute</p>\n<p>An aft
 ernoon of eclectic repertoire of pieces by J.S. Bach\, Jean-Phillipe R
 ameau\, John Rutter\, and others. Yetter brings her own harpsichord (b
 uilt in the Flemish tradition after Johannes Couchet\, c. 1650).</p>\n
 </div>
URL:https://akronago.org/events/405/chamber-music-with-mary-ragna-yett
 er-and-elena-lavictoire/?lang=en
ATTACH:https://akronago.org/events/405/chamber-music-with-mary-ragna-y
 etter-and-elena-lavictoire/?lang=en
LOCATION:St Sebastian RC (Akron)\, 476 Mull Ave\, Akron
END:VEVENT
END:VCALENDAR
