BEGIN:VCALENDAR
VERSION:2.0
METHOD:PUBLISH
PRODID:-//hacksw/handcal//NONSGML v1.0//EN
BEGIN:VEVENT
DTSTAMP:20260423T111654Z
DTSTART:20180318T200000Z
DTEND:20180318T213000Z
UID:20180318T200000Z-20180318T213000Z-404@akronago.org
SUMMARY:Crooked River Chorus
DESCRIPTION:Robert Mollard\, conductor/founder\nCrooked River Chorale 
 was founded in 2015 and the Treble Ensemble was drawn from the Chorale
  in 2016.They perform literature from the Renaissance to the present.
X-ALT-DESC;FMTTYPE=text/html:<div class=page-restrict-output><p><em>Ro
 bert Mollard\, conductor/founder</em><br>\nCrooked River Chorale was f
 ounded in 2015 and the Treble Ensemble was drawn from the Chorale in 2
 016.They perform literature from the Renaissance to the present.</p>\n
 </div>
URL:https://akronago.org/events/404/crooked-river-chorus/?lang=en
ATTACH:https://akronago.org/events/404/crooked-river-chorus/?lang=en
ATTACH:https://akronago.org/wp-content/uploads/crooked-river-chorale-1
 50x150.jpg
LOCATION:St Sebastian RC (Akron)\, 476 Mull Ave\, Akron
END:VEVENT
END:VCALENDAR
