BEGIN:VCALENDAR
VERSION:2.0
METHOD:PUBLISH
PRODID:-//hacksw/handcal//NONSGML v1.0//EN
BEGIN:VEVENT
DTSTAMP:20260423T111615Z
DTSTART:20180520T200000Z
DTEND:20180520T213000Z
UID:20180520T200000Z-20180520T213000Z-403@akronago.org
SUMMARY:Chatham Baroque
DESCRIPTION:Chatham Baroque has been exciting audiences for more than 
 25 years with dazzling technique and lively interpretations of music o
 f the seventeenth and eighteenth centuries played on copies of instrum
 ents from that period. The artistically nimble ensemble of Andrew Fout
 s (violin)\, Patricia Halverson (viola da gamba)\, and Scott Pauley (t
 heorbo) regularly invites the finest of guest artists to perform with 
 them\, allowing for repertoire ranging from well-known masterpieces to
  obscure gems. They also tour nationally and internationally and prese
 nt numerous early childhood and community outreach programs.\n \nThe d
 emand for Chatham Baroque’s unique brand of artistry and expertise con
 tinues to grow\, offering a unique resource for other arts organizatio
 ns in the Pittsburgh region. In recent years\, Chatham Baroque has col
 laborated with the Pittsburgh Opera\, Quantum Theatre\, the Pittsburgh
  Symphony Orchestra\, Renaissance & Baroque\, Attack Theatre and Pitts
 burgh Festival Opera to critical acclaim.
X-ALT-DESC;FMTTYPE=text/html:<div class=page-restrict-output><p>Chatha
 m Baroque has been exciting audiences for more than 25 years with dazz
 ling technique and lively interpretations of music of the seventeenth 
 and eighteenth centuries played on copies of instruments from that per
 iod. The artistically nimble ensemble of Andrew Fouts (violin)\, Patri
 cia Halverson (viola da gamba)\, and Scott Pauley (theorbo) regularly 
 invites the finest of guest artists to perform with them\, allowing fo
 r repertoire ranging from well-known masterpieces to obscure gems. The
 y also tour nationally and internationally and present numerous early 
 childhood and community outreach programs.</p>\n<p>The demand for Chat
 ham Baroque’s unique brand of artistry and expertise continues to grow
 \, offering a unique resource for other arts organizations in the Pitt
 sburgh region. In recent years\, Chatham Baroque has collaborated with
  the Pittsburgh Opera\, Quantum Theatre\, the Pittsburgh Symphony Orch
 estra\, Renaissance & Baroque\, Attack Theatre and Pittsburgh Festival
  Opera to critical acclaim.</p>\n</div>
URL:https://akronago.org/events/403/chatham-baroque/?lang=en
ATTACH:https://akronago.org/events/403/chatham-baroque/?lang=en
ATTACH:https://akronago.org/wp-content/uploads/Chatham-Baroque-Trio-Sh
 ot-2016-150x150.jpg
LOCATION:Holy Trinity Lutheran (Akron)\, 50 North Prospect St\, Akron
END:VEVENT
END:VCALENDAR
