BEGIN:VCALENDAR
VERSION:2.0
METHOD:PUBLISH
PRODID:-//hacksw/handcal//NONSGML v1.0//EN
BEGIN:VEVENT
DTSTAMP:20260423T111912Z
DTSTART:20180429T200000Z
DTEND:20180429T213000Z
UID:20180429T200000Z-20180429T213000Z-402@akronago.org
SUMMARY:James David Christie
DESCRIPTION:
X-ALT-DESC;FMTTYPE=text/html:<div class=page-restrict-output></div>
URL:https://akronago.org/events/402/james-david-christie/?lang=en
ATTACH:https://akronago.org/events/402/james-david-christie/?lang=en
ATTACH:https://akronago.org/wp-content/uploads/jim_christie-121x150.jp
 g
LOCATION:Holy Trinity Lutheran (Akron)\, 50 North Prospect St\, Akron
END:VEVENT
END:VCALENDAR
