BEGIN:VCALENDAR
VERSION:2.0
METHOD:PUBLISH
PRODID:-//hacksw/handcal//NONSGML v1.0//EN
BEGIN:VEVENT
DTSTAMP:20260423T111810Z
DTSTART:20180506T200000Z
DTEND:20180506T213000Z
UID:20180506T200000Z-20180506T213000Z-401@akronago.org
SUMMARY:12th Annual High School Music Festival
DESCRIPTION:An Afternoon of Youthful Choral Music\nFirestone\, Revere\
 , Copley-Fairlawn & Medina High School Directors: Chad Pitman\, Alice 
 Forney\, Basil Kochan\, Tyler Skidmore\nThe four high school choirs ce
 lebrate their twelfth annual High School Music Festival this year. Eac
 h choir performs three selections alone and then joins together for a 
 final large-group sacred number\, encircling the sanctuary and singing
  in the round\, creating a heavenly effect for the audience.
X-ALT-DESC;FMTTYPE=text/html:<div class=page-restrict-output><p><stron
 g>An Afternoon of Youthful Choral Music</strong><br>\n<em>Firestone\, 
 Revere\, Copley-Fairlawn &amp\; Medina High School Directors: Chad Pit
 man\, Alice Forney\, Basil Kochan\, Tyler Skidmore</em><br>\nThe four 
 high school choirs celebrate their twelfth annual High School Music Fe
 stival this year. Each choir performs three selections alone and then 
 joins together for a final large-group sacred number\, encircling the 
 sanctuary and singing in the round\, creating a heavenly effect for th
 e audience.</p>\n</div>
URL:https://akronago.org/events/401/12th-annual-high-school-music-fest
 ival/?lang=en
ATTACH:https://akronago.org/events/401/12th-annual-high-school-music-f
 estival/?lang=en
ATTACH:https://akronago.org/wp-content/uploads/high-school-festival-fa
 irlawn-lutheran-150x150.png
LOCATION:Fairlawn Lutheran\, 3415 W Market St\, Fairlawn\, OH
END:VEVENT
END:VCALENDAR
