BEGIN:VCALENDAR
VERSION:2.0
METHOD:PUBLISH
PRODID:-//hacksw/handcal//NONSGML v1.0//EN
BEGIN:VEVENT
DTSTAMP:20260423T111906Z
DTSTART:20180415T200000Z
DTEND:20180415T213000Z
UID:20180415T200000Z-20180415T213000Z-400@akronago.org
SUMMARY:Around the World in 80 Minutes: Dr. Jeanine & David Jordan
DESCRIPTION:Organist: Dr. Jeanine Jordan\nMedia Artist: David Jordan\n
 \nJeanine is a champion of the organ and its music. This newest concer
 t features unique global organ repertoire by native composers performe
 d by Dr. Jordan. Lively anecdotes take you to remote places around the
  world. Enriching and engaging multimedia including live camera projec
 tion and spectacular visuals created by David Jordan complete the expe
 rience. Around the World in 80 Minutes is as exciting as it sounds.
X-ALT-DESC;FMTTYPE=text/html:<div class=page-restrict-output><p>Organi
 st: Dr. Jeanine Jordan<br>\nMedia Artist: David Jordan</p>\n<p>Jeanine
  is a champion of the organ and its music. This newest concert feature
 s unique global organ repertoire by native composers performed by Dr. 
 Jordan. Lively anecdotes take you to remote places around the world. E
 nriching and engaging multimedia including live camera projection and 
 spectacular visuals created by David Jordan complete the experience. A
 round the World in 80 Minutes is as exciting as it sounds.</p>\n</div>
URL:https://akronago.org/events/400/around-the-world-in-80-minutes-dr-
 jeanine-david-jordan/?lang=en
ATTACH:https://akronago.org/events/400/around-the-world-in-80-minutes-
 dr-jeanine-david-jordan/?lang=en
ATTACH:https://akronago.org/wp-content/uploads/dr-jeannine-and-david-j
 ordan-150x150.jpg
LOCATION:Faith Lutheran (Akron)\, 2726 W Market St\, Akron
END:VEVENT
END:VCALENDAR
