BEGIN:VCALENDAR
VERSION:2.0
METHOD:PUBLISH
PRODID:-//hacksw/handcal//NONSGML v1.0//EN
BEGIN:VEVENT
DTSTAMP:20260423T111806Z
DTSTART:20180313T220000Z
DTEND:20180314T000000Z
UID:20180313T220000Z-20180314T000000Z-399@akronago.org
SUMMARY:Dinner & Workshop with Bridget Jankowski
DESCRIPTION:Bridget Jankowski will lead a presentation and demonstrati
 on on Body Mapping for organists and singers at St. Paul’s Episcopal C
 hurch in Akron on Tuesday\, March 13\, 2018. Ms. Jankowski is Director
  of Music at St. Matthew Catholic Church in Akron. She works with teac
 hers and students on movement and technical issues both in her home st
 udio and via workshops\, including the six-hour course “What Every Mus
 ician Needs to Know about the Body.” Her work has helped injured and u
 ncomfortable musicians of all ages overcome technical limitations and 
 gain greater awareness\, ease\, and natural movement in their playing.
  She incorporates Body Mapping concepts into her weekly lessons with p
 iano students\, as well as with her church choirs and cantors.\n\nWe w
 ill meet for dinner at 6:00 p.m. followed by Ms. Jankowski’s presentat
 ion.  Click here to RSVP for dinner (RSVP deadline is Wednesday\, Marc
 h 7)
X-ALT-DESC;FMTTYPE=text/html:<div class=page-restrict-output><p><stron
 g>Bridget Jankowski</strong> will lead a presentation and demonstratio
 n on Body Mapping for organists and singers at St. Paul’s Episcopal Ch
 urch in Akron on Tuesday\, March 13\, 2018. Ms. Jankowski is Director 
 of Music at St. Matthew Catholic Church in Akron. She works with teach
 ers and students on movement and technical issues both in her home stu
 dio and via workshops\, including the six-hour course “What Every Musi
 cian Needs to Know about the Body.” Her work has helped injured and un
 comfortable musicians of all ages overcome technical limitations and g
 ain greater awareness\, ease\, and natural movement in their playing. 
 She incorporates Body Mapping concepts into her weekly lessons with pi
 ano students\, as well as with her church choirs and cantors.</p>\n<p>
 We will meet for dinner at 6:00 p.m. followed by Ms. Jankowski’s prese
 ntation. &nbsp\;<a href=http://akronago.org/march13-rsvp/>Click here t
 o RSVP for dinner</a> <span style=color: #ff0000\;>(RSVP deadline is W
 ednesday\, March 7)</span></p>\n</div>
URL:https://akronago.org/events/399/dinner-workshop-with-bridget-janko
 wski/?lang=en
ATTACH:https://akronago.org/events/399/dinner-workshop-with-bridget-ja
 nkowski/?lang=en
ATTACH:https://akronago.org/wp-content/uploads/Bridget-Jankowski-150x1
 50.png
LOCATION:St Paul's Episcopal (Akron)\, 1361 W Market St\, Akron
END:VEVENT
END:VCALENDAR
