BEGIN:VCALENDAR
VERSION:2.0
METHOD:PUBLISH
PRODID:-//hacksw/handcal//NONSGML v1.0//EN
BEGIN:VEVENT
DTSTAMP:20260423T112009Z
DTSTART:20180224T000000Z
DTEND:20180224T013000Z
UID:20180224T000000Z-20180224T013000Z-398@akronago.org
SUMMARY:Choral Festival
DESCRIPTION:A fundraiser (free will offering) for the Scholarship Fund
  of the Akron Chapter of the American Guild of Organists\, the Choral 
 Festival will showcase choirs from area churches\, and will feature So
 und Bites (an a cappella quartet)\, and Suburban Brass Quintet.\n\nPar
 ticipating church choirs: Holy Trinity Lutheran\, Akron\; Kent United 
 Methodist\, St. Sebastian Parish\, Akron\; Stow United Methodist\; and
  Trinity United Church of Christ.\n\nThe Scholarship Program of the Ak
 ron Chapter AGO provides encouragement for further organ study\, givin
 g aid to current organ students\, and/or piano students wishing to beg
 in organ study. Since 2011\, students have received over $2\,000 from 
 Akron Chapter AGO towards their organ studies. For more information\, 
 visit http://akronago.org/scholarships/
X-ALT-DESC;FMTTYPE=text/html:<div class=page-restrict-output><p>A fund
 raiser (free will offering) for the Scholarship Fund of the Akron Chap
 ter of the American Guild of Organists\, the Choral Festival will show
 case choirs from area churches\, and will feature Sound Bites (an a ca
 ppella quartet)\, and Suburban Brass Quintet.</p>\n<p>Participating ch
 urch choirs: Holy Trinity Lutheran\, Akron\; Kent United Methodist\, S
 t. Sebastian Parish\, Akron\; Stow United Methodist\; and Trinity Unit
 ed Church of Christ.</p>\n<p>The Scholarship Program of the Akron Chap
 ter AGO provides encouragement for further organ study\, giving aid to
  current organ students\, and/or piano students wishing to begin organ
  study. Since 2011\, students have received over $2\,000 from Akron Ch
 apter AGO towards their organ studies. For more information\, visit ht
 tp://akronago.org/scholarships/</p>\n</div>
URL:https://akronago.org/events/398/choral-festival/?lang=en
ATTACH:https://akronago.org/events/398/choral-festival/?lang=en
ATTACH:https://akronago.org/wp-content/uploads/2018-02-ago-card-web-15
 0x150.png
LOCATION:Kent United Methodist\, 1435 E Main Street\, Kent\, OH
END:VEVENT
END:VCALENDAR
