BEGIN:VCALENDAR
VERSION:2.0
METHOD:PUBLISH
PRODID:-//hacksw/handcal//NONSGML v1.0//EN
BEGIN:VEVENT
DTSTAMP:20260423T111826Z
DTSTART:20180105T220000Z
DTEND:20180106T010000Z
UID:20180105T220000Z-20180106T010000Z-397@akronago.org
SUMMARY:Post-Holiday Party
DESCRIPTION:* Informal relaxation & fellowship with your fellow musici
 ans\n\n* Enjoy board games\, conversation\, Mason’s keyboards\, etc. a
 s you wish\n\n* No need to bring anything—food & beverages will be pro
 vided. (BYOB if you wish.)\n\n* RSVP by December 31 to Mason at 330-80
 2-0447 or mason-meyer@live.com
X-ALT-DESC;FMTTYPE=text/html:<div class=page-restrict-output><p>* Info
 rmal relaxation & fellowship with your fellow musicians</p>\n<p>* Enjo
 y board games\, conversation\, Mason’s keyboards\, etc. as you wish</p
 >\n<p>* No need to bring anything—food & beverages will be provided. (
 BYOB if you wish.)</p>\n<p>* RSVP by December 31 to Mason at 330-802-0
 447 or &#109\;&#x61\;s&#111\;&#x6e\;-&#109\;&#x65\;y&#x65\;&#x72\;&#64
 \;&#x6c\;i&#118\;&#x65\;&#46\;&#99\;&#x6f\;m</p>\n</div>
URL:https://akronago.org/events/397/post-holiday-party/?lang=en
ATTACH:https://akronago.org/events/397/post-holiday-party/?lang=en
ATTACH:https://akronago.org/wp-content/uploads/ago-2017-epiphany-part-
 600-x-500-150x150.png
LOCATION:Home of Mason & Megan Meyer (Copley)\, 4312 Bramble Dr\, Copl
 ey
END:VEVENT
END:VCALENDAR
