BEGIN:VCALENDAR
VERSION:2.0
METHOD:PUBLISH
PRODID:-//hacksw/handcal//NONSGML v1.0//EN
BEGIN:VEVENT
DTSTAMP:20260423T112007Z
DTSTART:20171105T200000Z
DTEND:20171105T204500Z
UID:20171105T200000Z-20171105T204500Z-396@akronago.org
SUMMARY:Evensong
DESCRIPTION:The Choirs of St. Paul's
X-ALT-DESC;FMTTYPE=text/html:<div class=page-restrict-output><p>The Ch
 oirs of St. Paul's</p>\n</div>
URL:https://akronago.org/events/396/evensong/?lang=en
ATTACH:https://akronago.org/events/396/evensong/?lang=en
ATTACH:https://akronago.org/wp-content/uploads/evensong1-150x150.jpg
LOCATION:St Paul's Episcopal (Akron)\, 1361 W Market St\, Akron
END:VEVENT
END:VCALENDAR
