BEGIN:VCALENDAR
VERSION:2.0
METHOD:PUBLISH
PRODID:-//hacksw/handcal//NONSGML v1.0//EN
BEGIN:VEVENT
DTSTAMP:20260423T111915Z
DTSTART:20171105T200000Z
DTEND:20171105T213000Z
UID:20171105T200000Z-20171105T213000Z-395@akronago.org
SUMMARY:Richard Elliott
DESCRIPTION:Richard Elliott\, principal organist for the Mormon Tabern
 acle\, will give an organ recital in honor of the 40th anniversary of 
 Mark Thewes as music director at Westbrook. A reception will follow.\n
 \nFree Admission
X-ALT-DESC;FMTTYPE=text/html:<div class=page-restrict-output><p>Richar
 d Elliott\, principal organist for the Mormon Tabernacle\, will give a
 n organ recital in honor of the 40th anniversary of Mark Thewes as mus
 ic director at Westbrook. A reception will follow.</p>\n<p>Free Admiss
 ion</p>\n</div>
URL:https://akronago.org/events/395/richard-elliott/?lang=en
ATTACH:https://akronago.org/events/395/richard-elliott/?lang=en
ATTACH:https://akronago.org/wp-content/uploads/richard_elliott-150x150
 .jpeg
LOCATION:Westbrook Park UMC (Canton)\, 2521 12th St NW\, Canton
END:VEVENT
END:VCALENDAR
