BEGIN:VCALENDAR
VERSION:2.0
METHOD:PUBLISH
PRODID:-//hacksw/handcal//NONSGML v1.0//EN
BEGIN:VEVENT
DTSTAMP:20260423T112009Z
DTSTART:20171203T200000Z
DTEND:20171203T210000Z
UID:20171203T200000Z-20171203T210000Z-394@akronago.org
SUMMARY:Lessons & Carols on Advent Sunday
DESCRIPTION:The Choirs of St. Paul's usher in the season of Advent wit
 h their annual Lessons & Carols service.
X-ALT-DESC;FMTTYPE=text/html:<div class=page-restrict-output><p>The Ch
 oirs of St. Paul's usher in the season of Advent with their annual Les
 sons & Carols service.</p>\n</div>
URL:https://akronago.org/events/394/lessons-carols-on-advent-sunday/?l
 ang=en
ATTACH:https://akronago.org/events/394/lessons-carols-on-advent-sunday
 /?lang=en
LOCATION:St Paul's Episcopal (Akron)\, 1361 W Market St\, Akron
END:VEVENT
END:VCALENDAR
