BEGIN:VCALENDAR
VERSION:2.0
METHOD:PUBLISH
PRODID:-//hacksw/handcal//NONSGML v1.0//EN
BEGIN:VEVENT
DTSTAMP:20260423T111826Z
DTSTART:20171201T233000Z
DTEND:20171202T010000Z
UID:20171201T233000Z-20171202T010000Z-393@akronago.org
SUMMARY:Advent Procession of Lessons & Carols (with First Congregation
 al Church)
DESCRIPTION:Hear traditional Bible readings for Lessons and Carols: wo
 rds from the prophets and the gospels that move us from darkness to li
 ght\, Advent to Christmas. Choral anthems and congregational songs pun
 ctuate each reading. Music leaders include adult and child/youth vocal
  choirs from First Congregational Church and Holy Trinity Lutheran Chu
 rch\, both of Akron. A brass choir\, handbells and other instruments e
 nhance the choral and congregational offerings.
X-ALT-DESC;FMTTYPE=text/html:<div class=page-restrict-output><p>Hear t
 raditional Bible readings for Lessons and Carols: words from the proph
 ets and the gospels that move us from darkness to light\, Advent to Ch
 ristmas. Choral anthems and congregational songs punctuate each readin
 g. Music leaders include adult and child/youth vocal choirs from First
  Congregational Church and Holy Trinity Lutheran Church\, both of Akro
 n. A brass choir\, handbells and other instruments enhance the choral 
 and congregational offerings.</p>\n</div>
URL:https://akronago.org/events/393/advent-procession-of-lessons-carol
 s-with-first-congregational-church/?lang=en
ATTACH:https://akronago.org/events/393/advent-procession-of-lessons-ca
 rols-with-first-congregational-church/?lang=en
ATTACH:https://akronago.org/wp-content/uploads/adventcand51-150x150.jp
 g
LOCATION:Holy Trinity Lutheran (Akron)\, 50 North Prospect St\, Akron
END:VEVENT
END:VCALENDAR
