BEGIN:VCALENDAR
VERSION:2.0
METHOD:PUBLISH
PRODID:-//hacksw/handcal//NONSGML v1.0//EN
BEGIN:VEVENT
DTSTAMP:20260423T111907Z
DTSTART:20171029T200000Z
DTEND:20171029T213000Z
UID:20171029T200000Z-20171029T213000Z-392@akronago.org
SUMMARY:Quire Cleveland—Sing You After Me: Wondrous Rounds and Canons
DESCRIPTION:Sing You After Me is a program of rounds and canons from t
 he 13th to the end of the 19th centuries. Full of fun\, interesting\, 
 and appealing music\, it offers an enormous range of musical styles an
 d textures.\n\nAnd the composers of rounds and canons may surprise you
 : Byrd\, Bach\, Mozart\, Beethoven & Brahms are among the master compo
 sers who contributed to the repertoire! Enjoy the captivating sounds o
 f one voice following another in ingenious — but also sublimely beauti
 ful — harmony.\n\nPrevious performances of this program earned standin
 g ovations and the theme “we’re running out of programs”!\n\nFree-will
  offering. No tickets required.
X-ALT-DESC;FMTTYPE=text/html:<div class=page-restrict-output><p><em><s
 trong>Sing You After Me</strong></em> is a program of rounds and canon
 s from the 13th to the end of the 19th centuries. Full of fun\, intere
 sting\, and appealing music\, it offers an enormous range of musical s
 tyles and textures.</p>\n<p>And the composers of rounds and canons may
  surprise you: Byrd\, Bach\, Mozart\, Beethoven & Brahms are among the
  master composers who contributed to the repertoire! Enjoy the captiva
 ting sounds of one voice following another in ingenious — but also sub
 limely beautiful — harmony.</p>\n<p>Previous performances of this prog
 ram earned standing ovations and the theme “we’re running out of progr
 ams”!</p>\n<p>Free-will offering. No tickets required.</p>\n</div>
URL:https://akronago.org/events/392/quire-cleveland-e2-80-94sing-you-a
 fter-me-wondrous-rounds-and-canons/?lang=en
ATTACH:https://akronago.org/events/392/quire-cleveland-e2-80-94sing-yo
 u-after-me-wondrous-rounds-and-canons/?lang=en
ATTACH:https://akronago.org/wp-content/uploads/Rose2-390x404-150x150.j
 pg
LOCATION:Holy Trinity Lutheran (Akron)\, 50 North Prospect St\, Akron
END:VEVENT
END:VCALENDAR
