BEGIN:VCALENDAR
VERSION:2.0
METHOD:PUBLISH
PRODID:-//hacksw/handcal//NONSGML v1.0//EN
BEGIN:VEVENT
DTSTAMP:20260423T111605Z
DTSTART:20171029T180000Z
DTEND:20171029T200000Z
UID:20171029T180000Z-20171029T200000Z-391@akronago.org
SUMMARY:Hector Olivera (organ dedication)
DESCRIPTION:Pellegrino Music Center will be sponsoring a concert by wo
 rld-renowned organist Hector Olivera at Immaculate Conception Catholic
  Church in Port Clinton\, Ohio. This concert is a dedication of their 
 newly installed 46 stop L-324eDK Allen organ with GeniSys voices. This
  concert is free and open to the public.
X-ALT-DESC;FMTTYPE=text/html:<div class=page-restrict-output><p>Pelleg
 rino Music Center will be sponsoring a concert by world-renowned organ
 ist Hector Olivera at Immaculate Conception Catholic Church in Port Cl
 inton\, Ohio. This concert is a dedication of their newly installed 46
  stop L-324eDK Allen organ with GeniSys voices. This concert is free a
 nd open to the public.</p>\n</div>
URL:https://akronago.org/events/391/hector-olivera-organ-dedication/?l
 ang=en
ATTACH:https://akronago.org/events/391/hector-olivera-organ-dedication
 /?lang=en
ATTACH:https://akronago.org/wp-content/uploads/Hector-Olivera-150x150.
 jpg
LOCATION:Immaculate Conception Catholic Church (Port Clinton)\, 414 Ma
 dison St\, Port Clinton
END:VEVENT
END:VCALENDAR
