BEGIN:VCALENDAR
VERSION:2.0
METHOD:PUBLISH
PRODID:-//hacksw/handcal//NONSGML v1.0//EN
BEGIN:VEVENT
DTSTAMP:20260423T111740Z
DTSTART:20101212T200000Z
DTEND:20101212T040000Z
UID:20101212T200000Z-20101212T040000Z-39@akronago.org
SUMMARY:Christmas Concert\, Paragon Brass & Barbara MacGregor
DESCRIPTION:The joyful music of the Christmas season played by organis
 t\, Barbara MacGregor and the Paragon Brass Quintet—Scott Johnston and
  Jack Brndiar\, trumpet\; William Hoyt \, horn\; Edward Zadrozny\, tro
 mbone\; and Russ Tinkham\, tuba. The program will include both solo wo
 rks and ensemble pieces.\n\nFree admission. A reception follows.
X-ALT-DESC;FMTTYPE=text/html:<div class=page-restrict-output><p>The jo
 yful music of the Christmas season played by organist\, Barbara MacGre
 gor and the Paragon Brass Quintet—Scott Johnston and Jack Brndiar\, tr
 umpet\; William Hoyt \, horn\; Edward Zadrozny\, trombone\; and Russ T
 inkham\, tuba. The program will include both solo works and ensemble p
 ieces.</p>\n<p>Free admission. A reception follows.</p>\n</div>
URL:https://akronago.org/events/39/christmas-concert-paragon-brass-bar
 bara-macgregor/?lang=en
ATTACH:https://akronago.org/events/39/christmas-concert-paragon-brass-
 barbara-macgregor/?lang=en
LOCATION:Trinity UCC (Wadsworth)\, 215 High St\, Wadsworth
END:VEVENT
END:VCALENDAR
