BEGIN:VCALENDAR
VERSION:2.0
METHOD:PUBLISH
PRODID:-//hacksw/handcal//NONSGML v1.0//EN
BEGIN:VEVENT
DTSTAMP:20260423T111933Z
DTSTART:20171212T160000Z
DTEND:20171212T163000Z
UID:20171212T160000Z-20171212T163000Z-389@akronago.org
SUMMARY:Daniel Colaner
DESCRIPTION:Adoration and Noon Organ Recitals\nThese concerts encourag
 e guests to come to Adoration during the noon hour\, visit with our Lo
 rd\, and enjoy some great organ music.
X-ALT-DESC;FMTTYPE=text/html:<div class=page-restrict-output><p><stron
 g>Adoration and Noon Organ Recitals</strong><br>\nThese concerts encou
 rage guests to come to Adoration during the noon hour\, visit with our
  Lord\, and enjoy some great organ music.</p>\n</div>
URL:https://akronago.org/events/389/daniel-colaner/?lang=en
ATTACH:https://akronago.org/events/389/daniel-colaner/?lang=en
ATTACH:https://akronago.org/wp-content/uploads/Daniel_Colaner-150x150.
 jpg
LOCATION:St Sebastian RC (Akron)\, 476 Mull Ave\, Akron
END:VEVENT
END:VCALENDAR
