BEGIN:VCALENDAR
VERSION:2.0
METHOD:PUBLISH
PRODID:-//hacksw/handcal//NONSGML v1.0//EN
BEGIN:VEVENT
DTSTAMP:20260423T112008Z
DTSTART:20171202T223000Z
DTEND:20171203T010000Z
UID:20171202T223000Z-20171203T010000Z-387@akronago.org
SUMMARY:Christmas Fa La Lollies
DESCRIPTION:Event will be held in Zwisler Hall.\nFeaturing Music Minis
 try\, Academy\, School\, and Parishioners in Christmas Vignettes.\nSou
 p\, salad\, and desserts\nTicket price - $5.00 \nStart the holiday sea
 son with this evening of food\, fellowship and Holiday music of the fu
 n variety! Santa will be around\, along with silent monks and possible
  some singing nuns\, to name a few!
X-ALT-DESC;FMTTYPE=text/html:<div class=page-restrict-output><p>Event 
 will be held in Zwisler Hall.<br>\nFeaturing Music Ministry\, Academy\
 , School\, and Parishioners in Christmas Vignettes.<br>\n<em>Soup\, sa
 lad\, and desserts</em><br>\n<strong>Ticket price - $5.00 </strong><br
 >\nStart the holiday season with this evening of food\, fellowship and
  Holiday music of the fun variety! Santa will be around\, along with s
 ilent monks and possible some singing nuns\, to name a few!</p>\n</div
 >
URL:https://akronago.org/events/387/christmas-fa-la-lollies/?lang=en
ATTACH:https://akronago.org/events/387/christmas-fa-la-lollies/?lang=e
 n
ATTACH:https://akronago.org/wp-content/uploads/christmas-decorations-1
 50x133.jpg
LOCATION:St Sebastian RC (Akron)\, 476 Mull Ave\, Akron
END:VEVENT
END:VCALENDAR
