BEGIN:VCALENDAR
VERSION:2.0
METHOD:PUBLISH
PRODID:-//hacksw/handcal//NONSGML v1.0//EN
BEGIN:VEVENT
DTSTAMP:20260423T112008Z
DTSTART:20171105T203000Z
DTEND:20171105T213000Z
UID:20171105T203000Z-20171105T213000Z-386@akronago.org
SUMMARY:Lynn Frey Steward
DESCRIPTION:Celebrating her 50th Anniversary as an organist\, join Lyn
 n Frey Steward and take a walk down memory lane of years of great musi
 c including\, ragtime\, classical and sacred.
X-ALT-DESC;FMTTYPE=text/html:<div class=page-restrict-output><p>Celebr
 ating her 50th Anniversary as an organist\, join Lynn Frey Steward and
  take a walk down memory lane of years of great music including\, ragt
 ime\, classical and sacred.</p>\n</div>
URL:https://akronago.org/events/386/lynn-frey-steward/?lang=en
ATTACH:https://akronago.org/events/386/lynn-frey-steward/?lang=en
ATTACH:https://akronago.org/wp-content/uploads/frey-steward-lynn-130x1
 50.jpg
LOCATION:St Sebastian RC (Akron)\, 476 Mull Ave\, Akron
END:VEVENT
END:VCALENDAR
