BEGIN:VCALENDAR
VERSION:2.0
METHOD:PUBLISH
PRODID:-//hacksw/handcal//NONSGML v1.0//EN
BEGIN:VEVENT
DTSTAMP:20260423T111654Z
DTSTART:20171022T200000Z
DTEND:20171022T213000Z
UID:20171022T200000Z-20171022T213000Z-385@akronago.org
SUMMARY:Coffee House Concert with Matthew Ball (the Boogie Woogie Kid)
DESCRIPTION:Event will be held in Zwisler Hall.\nCoffee\, tea and dess
 erts will be served.\nTicket price at door — $5.00 \nEnjoy a foot stom
 ping afternoon with this international artist with Jazz\, Blues and Bo
 ogie Woogie music!
X-ALT-DESC;FMTTYPE=text/html:<div class=page-restrict-output><p>Event 
 will be held in Zwisler Hall.<br>\nCoffee\, tea and desserts will be s
 erved.<br>\nTicket price at door — $5.00<br>\nEnjoy a foot stomping af
 ternoon with this international artist with Jazz\, Blues and Boogie Wo
 ogie music!</p>\n</div>
URL:https://akronago.org/events/385/coffee-house-concert-with-matthew-
 ball-the-boogie-woogie-kid/?lang=en
ATTACH:https://akronago.org/events/385/coffee-house-concert-with-matth
 ew-ball-the-boogie-woogie-kid/?lang=en
ATTACH:https://akronago.org/wp-content/uploads/matthew_ball-150x150.jp
 g
LOCATION:St Sebastian RC (Akron)\, 476 Mull Ave\, Akron
END:VEVENT
END:VCALENDAR
