BEGIN:VCALENDAR
VERSION:2.0
METHOD:PUBLISH
PRODID:-//hacksw/handcal//NONSGML v1.0//EN
BEGIN:VEVENT
DTSTAMP:20260423T111636Z
DTSTART:20180421T193000Z
DTEND:20180421T203000Z
UID:20180421T193000Z-20180421T203000Z-384@akronago.org
SUMMARY:A Chorus for a Cause (Christine Allison\, director)
DESCRIPTION:
X-ALT-DESC;FMTTYPE=text/html:<div class=page-restrict-output></div>
URL:https://akronago.org/events/384/a-chorus-for-a-cause-christine-all
 ison-director/?lang=en
ATTACH:https://akronago.org/events/384/a-chorus-for-a-cause-christine-
 allison-director/?lang=en
ATTACH:https://akronago.org/wp-content/uploads/acfac-150x150.png
LOCATION:First Congregational (Akron)\, 292 E Market St\, Akron
END:VEVENT
END:VCALENDAR
