BEGIN:VCALENDAR
VERSION:2.0
METHOD:PUBLISH
PRODID:-//hacksw/handcal//NONSGML v1.0//EN
BEGIN:VEVENT
DTSTAMP:20260423T111906Z
DTSTART:20180317T230000Z
DTEND:20180318T000000Z
UID:20180317T230000Z-20180318T000000Z-383@akronago.org
SUMMARY:Two Men on a Bench (Mark Thewes & Chad Pittman\, organists)
DESCRIPTION:
X-ALT-DESC;FMTTYPE=text/html:<div class=page-restrict-output></div>
URL:https://akronago.org/events/383/two-men-on-a-bench-mark-thewes-cha
 d-pittman-organists/?lang=en
ATTACH:https://akronago.org/events/383/two-men-on-a-bench-mark-thewes-
 chad-pittman-organists/?lang=en
ATTACH:https://akronago.org/wp-content/uploads/thewes_pittman-150x150.
 png
LOCATION:First Congregational (Akron)\, 292 E Market St\, Akron
END:VEVENT
END:VCALENDAR
