BEGIN:VCALENDAR
VERSION:2.0
METHOD:PUBLISH
PRODID:-//hacksw/handcal//NONSGML v1.0//EN
BEGIN:VEVENT
DTSTAMP:20260423T111807Z
DTSTART:20171209T170000Z
DTEND:20171209T180000Z
UID:20171209T170000Z-20171209T180000Z-382@akronago.org
SUMMARY:Cleveland Orchestra Youth Orchestra Ensemble
DESCRIPTION:
X-ALT-DESC;FMTTYPE=text/html:<div class=page-restrict-output></div>
URL:https://akronago.org/events/382/cleveland-orchestra-youth-orchestr
 a-ensemble/?lang=en
ATTACH:https://akronago.org/events/382/cleveland-orchestra-youth-orche
 stra-ensemble/?lang=en
ATTACH:https://akronago.org/wp-content/uploads/cleveland_orchestra_you
 th-150x150.png
LOCATION:First Congregational (Akron)\, 292 E Market St\, Akron
END:VEVENT
END:VCALENDAR
