BEGIN:VCALENDAR
VERSION:2.0
METHOD:PUBLISH
PRODID:-//hacksw/handcal//NONSGML v1.0//EN
BEGIN:VEVENT
DTSTAMP:20260423T111907Z
DTSTART:20171202T193000Z
DTEND:20171202T203000Z
UID:20171202T193000Z-20171202T203000Z-381@akronago.org
SUMMARY:Harmony Ringers (Christine Allison\, director)
DESCRIPTION:
X-ALT-DESC;FMTTYPE=text/html:<div class=page-restrict-output></div>
URL:https://akronago.org/events/381/harmony-ringers-christine-allison-
 director/?lang=en
ATTACH:https://akronago.org/events/381/harmony-ringers-christine-allis
 on-director/?lang=en
ATTACH:https://akronago.org/wp-content/uploads/harmony_ringers-150x150
 .png
LOCATION:First Congregational (Akron)\, 292 E Market St\, Akron
END:VEVENT
END:VCALENDAR
