BEGIN:VCALENDAR
VERSION:2.0
METHOD:PUBLISH
PRODID:-//hacksw/handcal//NONSGML v1.0//EN
BEGIN:VEVENT
DTSTAMP:20260423T111906Z
DTSTART:20171110T233000Z
DTEND:20171111T003000Z
UID:20171110T233000Z-20171111T003000Z-380@akronago.org
SUMMARY:Hal Walker\, folk artist
DESCRIPTION:
X-ALT-DESC;FMTTYPE=text/html:<div class=page-restrict-output></div>
URL:https://akronago.org/events/380/hal-walker-folk-artist/?lang=en
ATTACH:https://akronago.org/events/380/hal-walker-folk-artist/?lang=en
ATTACH:https://akronago.org/wp-content/uploads/walker_hal-150x150.png
LOCATION:First Congregational (Akron)\, 292 E Market St\, Akron
END:VEVENT
END:VCALENDAR
