BEGIN:VCALENDAR
VERSION:2.0
METHOD:PUBLISH
PRODID:-//hacksw/handcal//NONSGML v1.0//EN
BEGIN:VEVENT
DTSTAMP:20260423T111655Z
DTSTART:20110626T200000Z
DTEND:20110626T040000Z
UID:20110626T200000Z-20110626T040000Z-38@akronago.org
SUMMARY:Summit Choral Society Youth Touring Choir
DESCRIPTION:Director: Arlene Jacobs\n\nThe Youth Touring Choir has gro
 wn steadily into an artistic ensemble recognized for the high quality 
 of their singing. They serve as ambassadors of the Summit Choral Socie
 ty and the State of Ohio as they travel and perform in countries aroun
 d the world. This concert precedes their upcoming international tour.
X-ALT-DESC;FMTTYPE=text/html:<div class=page-restrict-output><p>Direct
 or: Arlene Jacobs</p>\n<p>The Youth Touring Choir has grown steadily i
 nto an artistic ensemble recognized for the high quality of their sing
 ing. They serve as ambassadors of the Summit Choral Society and the St
 ate of Ohio as they travel and perform in countries around the world. 
 This concert precedes their upcoming international tour.</p>\n</div>
URL:https://akronago.org/events/38/summit-choral-society-youth-touring
 -choir/?lang=en
ATTACH:https://akronago.org/events/38/summit-choral-society-youth-tour
 ing-choir/?lang=en
LOCATION:Fairlawn Lutheran\, 3415 W Market St\, Fairlawn\, OH
END:VEVENT
END:VCALENDAR
