BEGIN:VCALENDAR
VERSION:2.0
METHOD:PUBLISH
PRODID:-//hacksw/handcal//NONSGML v1.0//EN
BEGIN:VEVENT
DTSTAMP:20260423T111808Z
DTSTART:20180206T233000Z
DTEND:20180207T003000Z
UID:20180206T233000Z-20180207T003000Z-377@akronago.org
SUMMARY:University of Akron Chamber Orchestra (Guy Bordo\, director)
DESCRIPTION:
X-ALT-DESC;FMTTYPE=text/html:<div class=page-restrict-output></div>
URL:https://akronago.org/events/377/university-of-akron-chamber-orches
 tra-guy-bordo-director/?lang=en
ATTACH:https://akronago.org/events/377/university-of-akron-chamber-orc
 hestra-guy-bordo-director/?lang=en
ATTACH:https://akronago.org/wp-content/uploads/bordo-140x150.png
LOCATION:First Congregational (Akron)\, 292 E Market St\, Akron
END:VEVENT
END:VCALENDAR
