BEGIN:VCALENDAR
VERSION:2.0
METHOD:PUBLISH
PRODID:-//hacksw/handcal//NONSGML v1.0//EN
BEGIN:VEVENT
DTSTAMP:20260423T111931Z
DTSTART:20171001T200000Z
DTEND:20171001T210000Z
UID:20171001T200000Z-20171001T210000Z-374@akronago.org
SUMMARY:University of Akron Chamber Orchestra (Guy Bordo\, director)
DESCRIPTION:
X-ALT-DESC;FMTTYPE=text/html:<div class=page-restrict-output></div>
URL:https://akronago.org/events/374/university-of-akron-chamber-orches
 tra-guy-bordo-director/?lang=en
ATTACH:https://akronago.org/events/374/university-of-akron-chamber-orc
 hestra-guy-bordo-director/?lang=en
ATTACH:https://akronago.org/wp-content/uploads/1105141429-150x150.jpg
LOCATION:First Congregational (Akron)\, 292 E Market St\, Akron
END:VEVENT
END:VCALENDAR
