BEGIN:VCALENDAR
VERSION:2.0
METHOD:PUBLISH
PRODID:-//hacksw/handcal//NONSGML v1.0//EN
BEGIN:VEVENT
DTSTAMP:20260423T111826Z
DTSTART:20170924T200000Z
DTEND:20170924T213000Z
UID:20170924T200000Z-20170924T213000Z-373@akronago.org
SUMMARY:William Kuhlman
DESCRIPTION:Critics have hailed organist William Kuhlman as a world-cl
 ass performer whose playing communicates musical purpose and excitemen
 t. His passion for his art is reflected in a 40-year teaching and perf
 orming career. On the program are works by Micheelsen\, J. S. Bach\, S
 pong\, Brahms\, Vierne\, Sowerby\, and Guilmant. Refreshments follow t
 he concert.
X-ALT-DESC;FMTTYPE=text/html:<div class=page-restrict-output><p>Critic
 s have hailed organist William Kuhlman as a world-class performer whos
 e playing communicates musical purpose and excitement. His passion for
  his art is reflected in a 40-year teaching and performing career. On 
 the program are works by Micheelsen\, J. S. Bach\, Spong\, Brahms\, Vi
 erne\, Sowerby\, and Guilmant. Refreshments follow the concert.</p>\n<
 /div>
URL:https://akronago.org/events/373/william-kuhlman/?lang=en
ATTACH:https://akronago.org/events/373/william-kuhlman/?lang=en
ATTACH:https://akronago.org/wp-content/uploads/Kuhlman_001-150x150.jpg
LOCATION:Holy Trinity Lutheran (Akron)\, 50 North Prospect St\, Akron
END:VEVENT
END:VCALENDAR
