BEGIN:VCALENDAR
VERSION:2.0
METHOD:PUBLISH
PRODID:-//hacksw/handcal//NONSGML v1.0//EN
BEGIN:VEVENT
DTSTAMP:20260423T111656Z
DTSTART:20170915T233000Z
DTEND:20170917T003000Z
UID:20170915T233000Z-20170917T003000Z-372@akronago.org
SUMMARY:Clif Cason
DESCRIPTION:The program will include works by J.S. Bach\, Heinrich Sch
 eidemann\, Samuel Scheidt\, Camille Saint-Saëns and Charles-Marie Wido
 r.  \n \nThe concert is free and open to the public.
X-ALT-DESC;FMTTYPE=text/html:<div class=page-restrict-output><p>The pr
 ogram will include works by J.S. Bach\, Heinrich Scheidemann\, Samuel 
 Scheidt\, Camille Saint-Saëns and Charles-Marie Widor.  </p>\n<p>The c
 oncert is free and open to the public.</p>\n</div>
URL:https://akronago.org/events/372/clif-cason/?lang=en
ATTACH:https://akronago.org/events/372/clif-cason/?lang=en
ATTACH:https://akronago.org/wp-content/uploads/clif_cason.jpg
LOCATION:First Congregational (Akron)\, 292 E Market St\, Akron
END:VEVENT
END:VCALENDAR
