BEGIN:VCALENDAR
VERSION:2.0
METHOD:PUBLISH
PRODID:-//hacksw/handcal//NONSGML v1.0//EN
BEGIN:VEVENT
DTSTAMP:20260423T111829Z
DTSTART:20171012T233000Z
DTEND:20171013T013000Z
UID:20171012T233000Z-20171013T013000Z-370@akronago.org
SUMMARY:Apollo's Fire
DESCRIPTION:
X-ALT-DESC;FMTTYPE=text/html:<div class=page-restrict-output></div>
URL:https://akronago.org/events/370/apollos-fire-e2-80-94handels-israe
 l-in-egypt/?lang=en
ATTACH:https://akronago.org/events/370/apollos-fire-e2-80-94handels-is
 rael-in-egypt/?lang=en
ATTACH:https://akronago.org/wp-content/uploads/apollos-fire-israel-150
 x150.png
LOCATION:St Paul's Episcopal (Akron)\, 1361 W Market St\, Akron
END:VEVENT
END:VCALENDAR
