BEGIN:VCALENDAR
VERSION:2.0
METHOD:PUBLISH
PRODID:-//hacksw/handcal//NONSGML v1.0//EN
BEGIN:VEVENT
DTSTAMP:20260423T111635Z
DTSTART:20110313T200000Z
DTEND:20110313T040000Z
UID:20110313T200000Z-20110313T040000Z-37@akronago.org
SUMMARY:Bowling Green State University Men's Chorus
DESCRIPTION:Brothers\, Sing On!\nDirector: Timothy Cloeter\n\nThe chor
 us's well-deserved motto and reputation as America's Finest Singing Ma
 chine emanates from over 35 years of musical excellence. The ensemble 
 encompasses students from all academic majors\; over half are non-musi
 c majors who represent all seven colleges at the university.
X-ALT-DESC;FMTTYPE=text/html:<div class=page-restrict-output><p>Brothe
 rs\, Sing On!<br>\nDirector: Timothy Cloeter</p>\n<p>The chorus's well
 -deserved motto and reputation as America's Finest Singing Machine ema
 nates from over 35 years of musical excellence. The ensemble encompass
 es students from all academic majors\; over half are non-music majors 
 who represent all seven colleges at the university.</p>\n</div>
URL:https://akronago.org/events/37/bowling-green-state-university-mens
 -chorus/?lang=en
ATTACH:https://akronago.org/events/37/bowling-green-state-university-m
 ens-chorus/?lang=en
LOCATION:Fairlawn Lutheran\, 3415 W Market St\, Fairlawn\, OH
END:VEVENT
END:VCALENDAR
