BEGIN:VCALENDAR
VERSION:2.0
METHOD:PUBLISH
PRODID:-//hacksw/handcal//NONSGML v1.0//EN
BEGIN:VEVENT
DTSTAMP:20260423T111912Z
DTSTART:20170910T210000Z
DTEND:20170910T223000Z
UID:20170910T210000Z-20170910T223000Z-369@akronago.org
SUMMARY:Dexter Kennedy
DESCRIPTION:
X-ALT-DESC;FMTTYPE=text/html:<div class=page-restrict-output></div>
URL:https://akronago.org/events/369/dexter-kennedy/?lang=en
ATTACH:https://akronago.org/events/369/dexter-kennedy/?lang=en
ATTACH:https://akronago.org/wp-content/uploads/dexter-kennedy-150x150.
 png
LOCATION:Westminster Presbyterian (Akron)\, 1250 W Exchange St\, Akron
END:VEVENT
END:VCALENDAR
