BEGIN:VCALENDAR
VERSION:2.0
METHOD:PUBLISH
PRODID:-//hacksw/handcal//NONSGML v1.0//EN
BEGIN:VEVENT
DTSTAMP:20260423T111806Z
DTSTART:20171112T200000Z
DTEND:20171112T213000Z
UID:20171112T200000Z-20171112T213000Z-368@akronago.org
SUMMARY:Diane Bish
DESCRIPTION:
X-ALT-DESC;FMTTYPE=text/html:<div class=page-restrict-output></div>
URL:https://akronago.org/events/368/diane-bish/?lang=en
ATTACH:https://akronago.org/events/368/diane-bish/?lang=en
ATTACH:https://akronago.org/wp-content/uploads/diane-bish-150x150.png
LOCATION:Fairlawn Lutheran\, 3415 W Market St\, Fairlawn\, OH
END:VEVENT
END:VCALENDAR
