BEGIN:VCALENDAR
VERSION:2.0
METHOD:PUBLISH
PRODID:-//hacksw/handcal//NONSGML v1.0//EN
BEGIN:VEVENT
DTSTAMP:20260423T111614Z
DTSTART:20171014T180000Z
DTEND:20171014T223000Z
UID:20171014T180000Z-20171014T223000Z-367@akronago.org
SUMMARY:Organ Tour at Oberlin
DESCRIPTION:This is a joint program with the Cleveland Chapter. We wil
 l visit four Oberlin organs\, Oberlin\, around Tappan Square\, followe
 d by optional pay-your-own dinner at The Feve.
X-ALT-DESC;FMTTYPE=text/html:<div class=page-restrict-output><p>This i
 s a joint program with the Cleveland Chapter. We will visit four Oberl
 in organs\, Oberlin\, around Tappan Square\, followed by optional pay-
 your-own dinner at The Feve.</p>\n</div>
URL:https://akronago.org/events/367/organ-tour-at-oberlin-afternoon/?l
 ang=en
ATTACH:https://akronago.org/events/367/organ-tour-at-oberlin-afternoon
 /?lang=en
ATTACH:https://akronago.org/wp-content/uploads/fairchild4-150x150.jpg
LOCATION:Oberlin Conservatory of Music\, 39 W College St\, Oberlin
END:VEVENT
END:VCALENDAR
