BEGIN:VCALENDAR
VERSION:2.0
METHOD:PUBLISH
PRODID:-//hacksw/handcal//NONSGML v1.0//EN
BEGIN:VEVENT
DTSTAMP:20260423T111616Z
DTSTART:20170917T200000Z
DTEND:20170917T210000Z
UID:20170917T200000Z-20170917T210000Z-366@akronago.org
SUMMARY:Evening Prayer: Spiritual Refreshment for Church Musicians
DESCRIPTION:This service of Evening Prayer is the opening program of t
 he 2017–18 season of the Akron Chapter AGO. The service will be follow
 ed by dinner at a nearby restaurant for those interested.
X-ALT-DESC;FMTTYPE=text/html:<div class=page-restrict-output><p>This s
 ervice of Evening Prayer is the opening program of the 2017–18 season 
 of the Akron Chapter AGO. The service will be followed by dinner at a 
 nearby restaurant for those interested.</p>\n</div>
URL:https://akronago.org/events/366/evening-prayer-spiritual-refreshme
 nt-for-church-musicians/?lang=en
ATTACH:https://akronago.org/events/366/evening-prayer-spiritual-refres
 hment-for-church-musicians/?lang=en
ATTACH:https://akronago.org/wp-content/uploads/faith_lutheran-150x150.
 jpg
LOCATION:Faith Lutheran (Akron)\, 2726 W Market St\, Akron
END:VEVENT
END:VCALENDAR
