BEGIN:VCALENDAR
VERSION:2.0
METHOD:PUBLISH
PRODID:-//hacksw/handcal//NONSGML v1.0//EN
BEGIN:VEVENT
DTSTAMP:20260423T111904Z
DTSTART:20170616T233000Z
DTEND:20170617T085100Z
UID:20170616T233000Z-20170617T085100Z-365@akronago.org
SUMMARY:Touring Choir of St. Peter's\, Charlotte
DESCRIPTION:Over 50 boys and girls (ages 9–18) from The Choir School a
 t St. Peter’s Episcopal Church in Charlotte will present a concert (fr
 ee admission) at St. Paul’s. Under the direction of Ben Outen\, Artist
 ic Director\, the concert will feature both sacred and secular selecti
 ons\, including Pergolesi’s “Stabat Mater”\, John Ireland’s “Ex ore in
 nocentium\,” and the spiritual\, “Music down in my soul.” Elizabeth Le
 nti is the Assistant Director of the choirs of The Choir School.\n\nNo
 w in its 24th season\, The Choir School is an auditioned community cho
 ir dedicated to helping young musicians explore\, achieve\, develop\, 
 and mature against the backdrop of a world-class music education. St. 
 Peter’s choristers come from every background and neighborhoods all ac
 ross the Charlotte region.\n\nThe school’s annual summer tour gives ch
 oristers the opportunity to grow as musicians and gain cultural awaren
 ess\, confidence\, and a sense of independence. Past tours have includ
 ed performances in Chicago\, Boston\, New Orleans\, New York\, Canada 
 and Great Britain.  In July 2019 the MasterSingers of The Choir School
  will serve as Choir in Residence at Durham Cathedral in Durham\, Engl
 and.\nMore information about The Choir School can be found at: www.The
 ChoirSchool.org.
X-ALT-DESC;FMTTYPE=text/html:<div class=page-restrict-output><div clas
 s=>Over 50 boys and girls (ages 9–18) from The Choir School at St. Pet
 er’s Episcopal Church in Charlotte will present a concert (free admiss
 ion) at St. Paul’s. Under the direction of Ben Outen\, Artistic Direct
 or\, the concert will feature both sacred and secular selections\, inc
 luding Pergolesi’s “Stabat Mater”\, John Ireland’s “Ex ore innocentium
 \,” and the spiritual\, “Music down in my soul.” Elizabeth Lenti is th
 e Assistant Director of the choirs of The Choir School.</div>\n<div cl
 ass=></div>\n<div class=>Now in its 24th season\, The Choir School is 
 an auditioned community choir dedicated to helping young musicians exp
 lore\, achieve\, develop\, and mature against the backdrop of a world-
 class music education. St. Peter’s choristers come from every backgrou
 nd and neighborhoods all across the Charlotte region.</div>\n<div clas
 s=></div>\n<div class=>The school’s annual summer tour gives chorister
 s the opportunity to grow as musicians and gain cultural awareness\, c
 onfidence\, and a sense of independence. Past tours have included perf
 ormances in Chicago\, Boston\, New Orleans\, New York\, Canada and Gre
 at Britain.  In July 2019 the MasterSingers of The Choir School will s
 erve as Choir in Residence at Durham Cathedral in Durham\, England.</d
 iv>\n<p><br class= />More information about The Choir School can be fo
 und at: <a class= href=http://www.thechoirschool.org/>www.TheChoirScho
 ol.org</a>.</p>\n</div>
URL:https://akronago.org/events/365/touring-choir-of-st-peters-charlot
 te/?lang=en
ATTACH:https://akronago.org/events/365/touring-choir-of-st-peters-char
 lotte/?lang=en
ATTACH:https://akronago.org/wp-content/uploads/st_peters_concert1-150x
 150.png
LOCATION:St Paul's Episcopal (Akron)\, 1361 W Market St\, Akron
END:VEVENT
END:VCALENDAR
