BEGIN:VCALENDAR
VERSION:2.0
METHOD:PUBLISH
PRODID:-//hacksw/handcal//NONSGML v1.0//EN
BEGIN:VEVENT
DTSTAMP:20260423T111829Z
DTSTART:20170604T200000Z
DTEND:20170605T075800Z
UID:20170604T200000Z-20170605T075800Z-364@akronago.org
SUMMARY:Chapter Picnic
DESCRIPTION:Bring a lawn chair to sit outside\, and a side dish or des
 sert to share. Meat\, beverages\, and paper products will be provided.
  If inclement weather\, picnic will be held indoors.
X-ALT-DESC;FMTTYPE=text/html:<div class=page-restrict-output><p>Bring 
 a lawn chair to sit outside\, and a side dish or dessert to share. Mea
 t\, beverages\, and paper products will be provided. If inclement weat
 her\, picnic will be held indoors.</p>\n</div>
URL:https://akronago.org/events/364/chapter-picnic/?lang=en
ATTACH:https://akronago.org/events/364/chapter-picnic/?lang=en
LOCATION:Forest Lodge Community Center\, 260 Greenwood Ave\, Akron
END:VEVENT
END:VCALENDAR
