BEGIN:VCALENDAR
VERSION:2.0
METHOD:PUBLISH
PRODID:-//hacksw/handcal//NONSGML v1.0//EN
BEGIN:VEVENT
DTSTAMP:20260423T111932Z
DTSTART:20170318T130000Z
DTEND:20170318T190000Z
UID:20170318T130000Z-20170318T190000Z-363@akronago.org
SUMMARY:Pedals\, Pipes and Pizza
DESCRIPTION:Registration Form and details
X-ALT-DESC;FMTTYPE=text/html:<div class=page-restrict-output><p><a hre
 f=http://akronago.org/wp-content/uploads/ppp_registration.pdf>Registra
 tion Form and details</a></p>\n</div>
URL:https://akronago.org/events/363/pedals-pipes-and-pizza/?lang=en
ATTACH:https://akronago.org/events/363/pedals-pipes-and-pizza/?lang=en
ATTACH:https://akronago.org/wp-content/uploads/ago_2017-03_ppp-150x150
 .png
LOCATION:St John’s Episcopal (Cuyahoga Falls)\, 2220 Second Street\, C
 uyahoga Falls
END:VEVENT
END:VCALENDAR
