BEGIN:VCALENDAR
VERSION:2.0
METHOD:PUBLISH
PRODID:-//hacksw/handcal//NONSGML v1.0//EN
BEGIN:VEVENT
DTSTAMP:20260423T111727Z
DTSTART:20170402T200000Z
DTEND:20170403T030900Z
UID:20170402T200000Z-20170403T030900Z-362@akronago.org
SUMMARY:Rudy Lucente (organ dedication)
DESCRIPTION:Renowned organist Rudy Lucente dedicates the new 46-stop\,
  L-324 Allen organ with GeniSys voices. This concert is free and open 
 to the public.\n\nSponsored by Pellegrino Music Center
X-ALT-DESC;FMTTYPE=text/html:<div class=page-restrict-output><p>Renown
 ed organist Rudy Lucente dedicates the new 46-stop\, L-324 Allen organ
  with GeniSys voices. This concert is free and open to the public.</p>
 \n<p><em>Sponsored by Pellegrino Music Center</em></p>\n</div>
URL:https://akronago.org/events/362/rudy-lucente-organ-dedication/?lan
 g=en
ATTACH:https://akronago.org/events/362/rudy-lucente-organ-dedication/?
 lang=en
ATTACH:https://akronago.org/wp-content/uploads/rudy_lucente-150x150.jp
 g
LOCATION:Sacred Heart Chapel\, Center for Pastoral Leadership (Wicklif
 fe)\, 28700 Euclid Ave\, Wickliffe
END:VEVENT
END:VCALENDAR
