BEGIN:VCALENDAR
VERSION:2.0
METHOD:PUBLISH
PRODID:-//hacksw/handcal//NONSGML v1.0//EN
BEGIN:VEVENT
DTSTAMP:20260423T111904Z
DTSTART:20170305T000000Z
DTEND:20170305T153400Z
UID:20170305T000000Z-20170305T153400Z-361@akronago.org
SUMMARY:Gail Archer
DESCRIPTION:Please join First Congregational Church for a free concert
  by internationally-renowned organist Gail Archer\, playing selections
  by Dietrich Buxtehude\, J.S. Bach\, Joan Tower\, Mary Howe\, Alexande
 r Shaversaschvili\, and Modest Mussorgsky.\n\nGail Archer is an intern
 ational concert organist\, recording artist\, choral conductor and lec
 turer who draws attention to composer anniversaries or musical themes 
 with her annual recital series including Max Reger\, The Muse’s Voice\
 , An American Idyll\, Liszt\, Bach\, Mendelssohn and Messiaen. Ms. Arc
 her was the first American woman to play the complete works of Olivier
  Messiaen for the centennial of the composer’s birth in 2008. Ms.Arche
 r is college organist at Vassar College\, and director of the music pr
 ogram at Barnard College\, Columbia University.\n\n 
X-ALT-DESC;FMTTYPE=text/html:<div class=page-restrict-output><p>Please
  join First Congregational Church for a free concert by internationall
 y-renowned organist Gail Archer\, playing selections by Dietrich Buxte
 hude\, J.S. Bach\, Joan Tower\, Mary Howe\, Alexander Shaversaschvili\
 , and Modest Mussorgsky.</p>\n<p>Gail Archer is an international conce
 rt organist\, recording artist\, choral conductor and lecturer who dra
 ws attention to composer anniversaries or musical themes with her annu
 al recital series including Max Reger\, The Muse’s Voice\, An American
  Idyll\, Liszt\, Bach\, Mendelssohn and Messiaen. Ms. Archer was the f
 irst American woman to play the complete works of Olivier Messiaen for
  the centennial of the composer’s birth in 2008. Ms.Archer is college 
 organist at Vassar College\, and director of the music program at Barn
 ard College\, Columbia University.</p>\n<p>&nbsp\;</p>\n</div>
URL:https://akronago.org/events/361/gail-archer/?lang=en
ATTACH:https://akronago.org/events/361/gail-archer/?lang=en
ATTACH:https://akronago.org/wp-content/uploads/gail-archer-150x150.jpg
LOCATION:First Congregational (Hudson)\, 47 Aurora St\, Hudson\, OH
END:VEVENT
END:VCALENDAR
