BEGIN:VCALENDAR
VERSION:2.0
METHOD:PUBLISH
PRODID:-//hacksw/handcal//NONSGML v1.0//EN
BEGIN:VEVENT
DTSTAMP:20260423T111637Z
DTSTART:20110502T200000Z
DTEND:20110501T040000Z
UID:20110502T200000Z-20110501T040000Z-36@akronago.org
SUMMARY:Fifth Annual High School Choral Festival
DESCRIPTION:Featuring Firestone\, Revere\, and Copley-Fairlawn choirs\
 nDirectors: Sally Schneider\, Basil Kochan\, Deborah Devore\n\nThe thr
 ee choirs\, under the direction of their professional directors\, cont
 inue to present an outstanding variety of music each year before a pac
 ked house. Their consolidates finale is always an emotional and uplift
 ing selection\, producing standing ovations every time.
X-ALT-DESC;FMTTYPE=text/html:<div class=page-restrict-output><p>Featur
 ing Firestone\, Revere\, and Copley-Fairlawn choirs<br>\nDirectors: Sa
 lly Schneider\, Basil Kochan\, Deborah Devore</p>\n<p>The three choirs
 \, under the direction of their professional directors\, continue to p
 resent an outstanding variety of music each year before a packed house
 . Their consolidates finale is always an emotional and uplifting selec
 tion\, producing standing ovations every time.</p>\n</div>
URL:https://akronago.org/events/36/fifth-annual-high-school-choral-fes
 tival/?lang=en
ATTACH:https://akronago.org/events/36/fifth-annual-high-school-choral-
 festival/?lang=en
LOCATION:Fairlawn Lutheran\, 3415 W Market St\, Fairlawn\, OH
END:VEVENT
END:VCALENDAR
