BEGIN:VCALENDAR
VERSION:2.0
METHOD:PUBLISH
PRODID:-//hacksw/handcal//NONSGML v1.0//EN
BEGIN:VEVENT
DTSTAMP:20260423T112010Z
DTSTART:20161127T200000Z
DTEND:20161128T101400Z
UID:20161127T200000Z-20161128T101400Z-359@akronago.org
SUMMARY:Lessons & Carols on Advent Sunday
DESCRIPTION:A splendid way to begin the Advent season\, join us for ou
 r annual service of Lessons & Carols sung by the Choirs of St. Paul's.
 \n\nChoral music of Ravenscroft\, Stanford\, Campion\, Shephard\, and 
 André Thomas\, with rousing congregational hymns.
X-ALT-DESC;FMTTYPE=text/html:<div class=page-restrict-output><p>A sple
 ndid way to begin the Advent season\, join us for our annual service o
 f Lessons &amp\; Carols sung by the Choirs of St. Paul's.</p>\n<p>Chor
 al music of Ravenscroft\, Stanford\, Campion\, Shephard\, and André Th
 omas\, with rousing congregational hymns.</p>\n</div>
URL:https://akronago.org/events/359/lessons-carols-on-advent-sunday/?l
 ang=en
ATTACH:https://akronago.org/events/359/lessons-carols-on-advent-sunday
 /?lang=en
LOCATION:St Paul's Episcopal (Akron)\, 1361 W Market St\, Akron
END:VEVENT
END:VCALENDAR
