BEGIN:VCALENDAR
VERSION:2.0
METHOD:PUBLISH
PRODID:-//hacksw/handcal//NONSGML v1.0//EN
BEGIN:VEVENT
DTSTAMP:20260423T111828Z
DTSTART:20161113T200000Z
DTEND:20161114T101000Z
UID:20161113T200000Z-20161114T101000Z-358@akronago.org
SUMMARY:Evensong
DESCRIPTION:The St. Catherine's Choir of Women (from St. Paul's\, Akro
 n) will sing:\n\nEdward Bairstow\, Magnificat & Nunc dimittis in E-fla
 t\nPeter Nardone\, Preces & Responses\nPsalm 19 (Edward Elgar)\nSamuel
  Sebastian Wesley\, Who can express the noble acts of the Lord\n\nRece
 ption following.
X-ALT-DESC;FMTTYPE=text/html:<div class=page-restrict-output><p>The St
 . Catherine's Choir of Women (from St. Paul's\, Akron) will sing:</p>\
 n<p>Edward Bairstow\, Magnificat &amp\; Nunc dimittis in E-flat<br>\nP
 eter Nardone\, Preces &amp\; Responses<br>\nPsalm 19 (Edward Elgar)<br
 >\nSamuel Sebastian Wesley\, Who can express the noble acts of the Lor
 d</p>\n<p>Reception following.</p>\n</div>
URL:https://akronago.org/events/358/evensong/?lang=en
ATTACH:https://akronago.org/events/358/evensong/?lang=en
LOCATION:St Andrew's Episcopal (Barberton)\, 583 W Hopocan Ave\, Barbe
 rton
END:VEVENT
END:VCALENDAR
