BEGIN:VCALENDAR
VERSION:2.0
METHOD:PUBLISH
PRODID:-//hacksw/handcal//NONSGML v1.0//EN
BEGIN:VEVENT
DTSTAMP:20260423T111656Z
DTSTART:20161120T170000Z
DTEND:20161121T100500Z
UID:20161120T170000Z-20161121T100500Z-357@akronago.org
SUMMARY:Hannah Koby
DESCRIPTION:Performing works by Nicolas DeGrigny\, J.S. Bach\, Johanne
 s Brahms\, and Max Reger.\n\nFree admission
X-ALT-DESC;FMTTYPE=text/html:<div class=page-restrict-output><p>Perfor
 ming works by Nicolas DeGrigny\, J.S. Bach\, Johannes Brahms\, and Max
  Reger.</p>\n<p>Free admission</p>\n</div>
URL:https://akronago.org/events/357/hannah-koby/?lang=en
ATTACH:https://akronago.org/events/357/hannah-koby/?lang=en
LOCATION:Trinity Lutheran (Kent)\, 600 S Water St\, Kent
END:VEVENT
END:VCALENDAR
