BEGIN:VCALENDAR
VERSION:2.0
METHOD:PUBLISH
PRODID:-//hacksw/handcal//NONSGML v1.0//EN
BEGIN:VEVENT
DTSTAMP:20260423T111934Z
DTSTART:20161119T140000Z
DTEND:20161120T053000Z
UID:20161119T140000Z-20161120T053000Z-356@akronago.org
SUMMARY:Tour of Kegg Pipe Organ Builders
DESCRIPTION:RSVP to Jim Storry before Wednesday\, November 16.\n\nLunc
 h following at Hartville Kitchen (1015 Edison St NW\, Hartville\, OH 4
 4632).
X-ALT-DESC;FMTTYPE=text/html:<div class=page-restrict-output><p>RSVP t
 o <a href=e&#109\;&#97\;&#x69\;&#x6c\;&#116\;&#111\;&#x3a\;&#x6a\;&#10
 0\;&#115\;&#x74\;&#x6f\;&#114\;&#114\;&#x79\;&#x40\;&#114\;&#111\;&#x6
 1\;&#x64\;&#114\;&#117\;&#x6e\;&#x6e\;&#101\;&#114\;&#x2e\;&#x63\;&#11
 1\;&#109\;>Jim Storry</a> before Wednesday\, November 16.</p>\n<p>Lunc
 h following at Hartville Kitchen (1015 Edison St NW\, Hartville\, OH 4
 4632).</p>\n</div>
URL:https://akronago.org/events/356/tour-of-kegg-pipe-organ-builders/?
 lang=en
ATTACH:https://akronago.org/events/356/tour-of-kegg-pipe-organ-builder
 s/?lang=en
LOCATION:Kegg Pipe Organ Builders (Hartville)\, 1184 Woodland St SW\, 
 Hartville
END:VEVENT
END:VCALENDAR
